BEGIN:VCALENDAR
VERSION:2.0
PRODID:-//TYPO3/NONSGML Calendarize//EN
BEGIN:VEVENT
UID:calendarize-sichtbar-handeln-diskursprojekt-2026-20260531
DTSTAMP:20260415T113412Z
DTSTART;VALUE=DATE:20260531
DTEND;VALUE=DATE:20260608
SUMMARY:Sichtbar Handeln! Umgehen mit Antisemitismus in Jugend- und Bildun
 gsarbeit
DESCRIPTION:ConAct bietet 2026 neue Runde des Diskursprojekts zur Qualifiz
 ierung von Fachkräften in Deutschland an: eine Seminarwoche in Deutschlan
 d verbunden mit einer Begegnungsreise nach Israel und einem Seminar zum Tr
 ansfer in die Praxis.\nAntisemitische und israelfeindliche Einstellungen s
 ind in Deutschland zunehmend verbreitet. Negative Zuschreibungen\, Verschw
 örungsmythen und Hetze gegen Jüdinnen*Juden zeigen immer wieder aufs Neu
 e\, wie virulent das Problem ist. Die stark gestiegenen Zahlen antisemitis
 cher Vorfälle in Deutschland nach dem terroristischen Angriff der Hamas a
 m 7. Oktober 2023 und dem daraus resultierenden Krieg im Gazastreifen verw
 eisen einmal mehr auf Brisanz und Aktualität von Antisemitismus.\nAuch Fa
 chkräfte der Jugend- und Bildungsarbeit sind mit verschiedenen Formen von
  Antisemitismus konfrontiert. In ihrer täglichen Arbeit stehen sie häufi
 g abwertenden und bisweilen aggressiven Äußerungen gegen Jüdinnen*Juden
  und Israel gegenüber\, denen nicht immer leicht zu begegnen ist. Vielfac
 h besteht vor allem Unsicherheit\, wie auf tradierte Negativbilder von „
 den Juden“\, auf israelfeindliche Äußerungen oder Verleugnungen der na
 tionalsozialistischen Judenverfolgung reagiert werden kann.\nDas Diskurspr
 ojekt „Sichtbar Handeln! Umgehen mit Antisemitismus in Jugend- und Bildu
 ngsarbeit“ ist ein fachliches Lern- und Diskursangebot zur Arbeit gegen 
 Antisemitismus sowie Israelfeindschaft und verbindet Einheiten zum Wissens
 erwerb\, zur Selbstreflexion und zum Perspektivwechsel. Das Angebot besteh
 t aus drei obligatorischen Modulen: einem einwöchigen Seminarteil in Deut
 schland (Modul I)\, einer Begegnungsreise nach Israel (Modul II) und einem
  Seminar zum Wissenstransfer in die Praxis (Modul III). \nInhalte und Ler
 nziele des Diskursprojekts:\nWissensaneignung zur Geschichte und Gegenwart
 \, zu Erscheinungsformen und Funktionen von AntisemitismusHandlungsoptione
 n zum pädagogischen Umgang mit AntisemitismusKennenlernen jüdischer Gesc
 hichte und Gegenwart in Deutschland und IsraelAuseinandersetzung mit der G
 eschichte von Nationalsozialismus und ShoahKennenlernen der vielfältigen 
 israelischen GesellschaftEinblicke in israelische Diskurse und den Lebensa
 lltag vor OrtHerausforderungen nach dem 7. Oktober 2023 in der Jugend- und
  BildungsarbeitProjektbesuche in Israel und Austausch mit israelischen Fac
 hkräften aus der Jugend- und BildungsarbeitEntwicklung von (Bildungs-)Kon
 zepten und Projektideen für den eigenen trägerspezifischen Arbeitsalltag
 \n\nTermine 2026\nMODUL I 23.–27.03.2026 in Lutherstadt Wittenberg: Semi
 narwoche zu Antisemitismus – Geschichte\, aktuelle Erscheinungsformen un
 d pädagogische HandlungsmöglichkeitenMODUL II 01.–07.06.2026 in Israel
 : Begegnungsreise in die vielfältige Gesellschaft Israels (unter dem Vorb
 ehalt aktueller Entwicklungen) + Vorbereitungstreffen am Abflugort (voraus
 s. Berlin\, 31.05.2026)MODUL III 16.–18.09.2026 in Berlin: Wissenstransf
 er in die Praxis\n\nWeitere Informationen\nBitte beachten Sie: Eine Anmeld
 ung zum Diskursprojekt 2026 ist nicht länger möglich. Wenn Sie an der Te
 ilnahme am Diskursprojekt und/oder anderen Veranstaltungen des Themenfelde
 s interessiert sind\, können Sie sich gerne auf der Liste für Interessen
 t*innen eintragen\, um über kommende Durchgänge von Fortbildungen inform
 iert zu werden.KONTAKT: Bei Fragen zum Projekt wenden Sie sich gerne an Ju
 dith Schweiger und Ilira Aliai.\n\nMehr über das von ConAct realisierte P
 rojekt „Sichtbar Handeln! Umgehen mit Antisemitismus in Jugend- und Bild
 ungsarbeit“ erfahren Sie unter www.Sichtbar-Handeln.org.\nDas Projekt „
 Sichtbar Handeln! Umgehen mit Antisemitismus in Jugend- und Bildungsarbeit
 “ wird von ConAct – Koordinierungszentrum Deutsch-Israelischer Jugenda
 ustausch in Kooperation mit der Israel Youth Exchange Authority und dem Co
 uncil of Youth Movements seit 2020 realisiert. Es wird aus Mitteln des Bun
 desministeriums für Bildung\, Familie\, Senioren\, Frauen und Jugend gefö
 rdert. 
X-ALT-DESC;FMTTYPE=text/html:<p><strong>ConAct bietet 2026 neue Runde des 
 Diskursprojekts zur Qualifizierung von Fachkräften in Deutschland an: ein
 e Seminarwoche in Deutschland verbunden mit einer Begegnungsreise nach Isr
 ael und einem Seminar zum Transfer in die Praxis.</strong></p>\n<p>Antisem
 itische und israelfeindliche Einstellungen sind in Deutschland zunehmend v
 erbreitet. Negative Zuschreibungen\, Verschwörungsmythen und Hetze gegen 
 Jüdinnen*Juden zeigen immer wieder aufs Neue\, wie virulent das Problem i
 st. Die stark gestiegenen Zahlen antisemitischer Vorfälle in Deutschland 
 nach dem terroristischen Angriff der Hamas am 7. Oktober 2023 und dem dara
 us resultierenden Krieg im Gazastreifen verweisen einmal mehr auf Brisanz 
 und Aktualität von Antisemitismus.</p>\n<p>Auch Fachkräfte der Jugend- u
 nd Bildungsarbeit sind mit verschiedenen Formen von Antisemitismus konfron
 tiert. In ihrer täglichen Arbeit stehen sie häufig abwertenden und biswe
 ilen aggressiven Äußerungen gegen Jüdinnen*Juden und Israel gegenüber\
 , denen nicht immer leicht zu begegnen ist. Vielfach besteht vor allem Uns
 icherheit\, wie auf tradierte Negativbilder von „den Juden“\, auf isra
 elfeindliche Äußerungen oder Verleugnungen der nationalsozialistischen J
 udenverfolgung reagiert werden kann.</p>\n<p>Das Diskursprojekt <a href="h
 ttps://sichtbar-handeln.org/" target="_blank">„Sichtbar Handeln! Umgehen
  mit Antisemitismus in Jugend- und Bildungsarbeit“</a> ist ein fachliche
 s Lern- und Diskursangebot zur Arbeit gegen Antisemitismus sowie Israelfei
 ndschaft und verbindet Einheiten zum Wissenserwerb\, zur Selbstreflexion u
 nd zum Perspektivwechsel. Das Angebot besteht aus drei <strong>obligatoris
 chen Modulen</strong>: einem einwöchigen Seminarteil in Deutschland (Modu
 l I)\, einer Begegnungsreise nach Israel (Modul II) und einem Seminar zum 
 Wissenstransfer in die Praxis (Modul III).<br />&nbsp\;</p>\n<p><strong>In
 halte und Lernziele des Diskursprojekts:</strong></p>\n<ul><li>Wissensanei
 gnung zur Geschichte und Gegenwart\, zu Erscheinungsformen und Funktionen 
 von Antisemitismus</li><li>Handlungsoptionen zum pädagogischen Umgang mit
  Antisemitismus</li><li>Kennenlernen jüdischer Geschichte und Gegenwart i
 n Deutschland und Israel</li><li>Auseinandersetzung mit der Geschichte von
  Nationalsozialismus und Shoah</li><li>Kennenlernen der vielfältigen isra
 elischen Gesellschaft</li><li>Einblicke in israelische Diskurse und den Le
 bensalltag vor Ort</li><li>Herausforderungen nach dem 7. Oktober 2023 in d
 er Jugend- und Bildungsarbeit</li><li>Projektbesuche in Israel und Austaus
 ch mit israelischen Fachkräften aus der Jugend- und Bildungsarbeit</li><l
 i>Entwicklung von (Bildungs-)Konzepten und Projektideen für den eigenen t
 rägerspezifischen Arbeitsalltag</li></ul>\n<hr />\n<h3>Termine 2026</h3>\
 n<ul><li><strong>MODUL I 23.–27.03.2026 in Lutherstadt Wittenberg: Semin
 arwoche zu Antisemitismus </strong>– Geschichte\, aktuelle Erscheinungsf
 ormen und pädagogische Handlungsmöglichkeiten</li><li><strong>MODUL II 0
 1.–07.06.2026 in Israel: Begegnungsreise in die vielfältige Gesellschaf
 t Israels </strong>(unter dem Vorbehalt aktueller Entwicklungen)<strong> <
 /strong>+ Vorbereitungstreffen am Abflugort (vorauss. Berlin\, 31.05.2026)
 </li><li><strong>MODUL III 16.–18.09.2026 in Berlin: Wissenstransfer in 
 die Praxis</strong></li></ul>\n<hr />\n<h3>Weitere Informationen</h3>\n<p>
 <strong>Bitte beachten Sie:</strong> Eine Anmeldung zum Diskursprojekt 202
 6 ist nicht länger möglich. Wenn Sie an der Teilnahme am Diskursprojekt 
 und/oder anderen Veranstaltungen des Themenfeldes interessiert sind\, kön
 nen Sie sich gerne auf der <a href="t3://page?uid=563"><strong>Liste für 
 Interessent*innen</strong></a> eintragen\, um über kommende Durchgänge v
 on Fortbildungen informiert zu werden.<br /><br /><strong>KONTAKT: Bei Fra
 gen zum Projekt wenden Sie sich gerne an </strong><a href="mailto:Judith.S
 chweiger@conact-org.de"><strong>Judith Schweiger</strong></a><strong> und 
 </strong><a href="mailto:ilira.aliai@conact-org.de"><strong>Ilira Aliai</s
 trong></a><strong>.</strong></p>\n<hr />\n<p>Mehr über das von <strong>Co
 nAct realisierte Projekt „Sichtbar Handeln! Umgehen mit Antisemitismus i
 n Jugend- und Bildungsarbeit“</strong> erfahren Sie unter <a href="https
 ://sichtbar-handeln.org/" target="_blank">www.Sichtbar-Handeln.org</a>.</p
 >\n<p><i>Das Projekt „Sichtbar Handeln! Umgehen mit Antisemitismus in Ju
 gend- und Bildungsarbeit“ wird von ConAct – Koordinierungszentrum Deut
 sch-Israelischer Jugendaustausch in Kooperation mit der Israel Youth Excha
 nge Authority und dem Council of Youth Movements seit 2020 realisiert. Es 
 wird aus Mitteln des Bundesministeriums für Bildung\, Familie\, Senioren\
 , Frauen und Jugend gefördert.</i><br />&nbsp\;</p>
LOCATION:Lutherstadt Wittenberg\, Israel\, Berlin
END:VEVENT
END:VCALENDAR
